BEGIN:VCALENDAR
VERSION:2.0
PRODID:-//wp-events-plugin.com//7.2.3.1//EN
TZID:Europe/Vienna
X-WR-TIMEZONE:Europe/Vienna
BEGIN:VEVENT
UID:104@spoe-seestadt.at
DTSTART;TZID=Europe/Vienna:20260317T183000
DTEND;TZID=Europe/Vienna:20260317T210000
DTSTAMP:20251105T204307Z
URL:https://spoe-seestadt.at/events/sektionsabend-im-maerz26/
SUMMARY:Sektionsabend im März
DESCRIPTION:Unsere internen Sektionsabende finden monatlich statt und biete
 n Platz für politische Diskussionen und organisatorische Koordination uns
 erer Aktivitäten.Den Ort legen wir kurzfristig fest. Eine unverbindliche
  Anmeldung hilft uns\, den passenden Veranstaltungsort zu wählen und dic
 h bei kurzfristigen Verschiebungen zu kontaktieren.
ATTACH;FMTTYPE=image/jpeg:https://spoe-seestadt.at/wp-content/uploads/2025
 /05/Sektionsabend.png
LOCATION:Ort wird noch bekanntgegeben\, Seestadt Aspern\, Wien\, 1220\, Ös
 terreich
GEO:48.225648;16.508088
X-APPLE-STRUCTURED-LOCATION;VALUE=URI;X-ADDRESS=Seestadt Aspern\, Wien\, 12
 20\, Österreich;X-APPLE-RADIUS=100;X-TITLE=Ort wird noch bekanntgegeben:g
 eo:48.225648,16.508088
END:VEVENT
BEGIN:VTIMEZONE
TZID:Europe/Vienna
X-LIC-LOCATION:Europe/Vienna
BEGIN:STANDARD
DTSTART:20251026T020000
TZOFFSETFROM:+0200
TZOFFSETTO:+0100
TZNAME:CET
END:STANDARD
END:VTIMEZONE
END:VCALENDAR